BEGIN:VCALENDAR
VERSION:2.0
PRODID:-//19th Hole - ECPv6.15.20//NONSGML v1.0//EN
CALSCALE:GREGORIAN
METHOD:PUBLISH
X-WR-CALNAME:19th Hole
X-ORIGINAL-URL:https://19thholemokena.com
X-WR-CALDESC:Events for 19th Hole
REFRESH-INTERVAL;VALUE=DURATION:PT1H
X-Robots-Tag:noindex
X-PUBLISHED-TTL:PT1H
BEGIN:VTIMEZONE
TZID:America/Chicago
BEGIN:DAYLIGHT
TZOFFSETFROM:-0600
TZOFFSETTO:-0500
TZNAME:CDT
DTSTART:20210314T080000
END:DAYLIGHT
BEGIN:STANDARD
TZOFFSETFROM:-0500
TZOFFSETTO:-0600
TZNAME:CST
DTSTART:20211107T070000
END:STANDARD
BEGIN:DAYLIGHT
TZOFFSETFROM:-0600
TZOFFSETTO:-0500
TZNAME:CDT
DTSTART:20220313T080000
END:DAYLIGHT
BEGIN:STANDARD
TZOFFSETFROM:-0500
TZOFFSETTO:-0600
TZNAME:CST
DTSTART:20221106T070000
END:STANDARD
BEGIN:DAYLIGHT
TZOFFSETFROM:-0600
TZOFFSETTO:-0500
TZNAME:CDT
DTSTART:20230312T080000
END:DAYLIGHT
BEGIN:STANDARD
TZOFFSETFROM:-0500
TZOFFSETTO:-0600
TZNAME:CST
DTSTART:20231105T070000
END:STANDARD
BEGIN:DAYLIGHT
TZOFFSETFROM:-0600
TZOFFSETTO:-0500
TZNAME:CDT
DTSTART:20240310T080000
END:DAYLIGHT
BEGIN:STANDARD
TZOFFSETFROM:-0500
TZOFFSETTO:-0600
TZNAME:CST
DTSTART:20241103T070000
END:STANDARD
BEGIN:DAYLIGHT
TZOFFSETFROM:-0600
TZOFFSETTO:-0500
TZNAME:CDT
DTSTART:20250309T080000
END:DAYLIGHT
BEGIN:STANDARD
TZOFFSETFROM:-0500
TZOFFSETTO:-0600
TZNAME:CST
DTSTART:20251102T070000
END:STANDARD
BEGIN:DAYLIGHT
TZOFFSETFROM:-0600
TZOFFSETTO:-0500
TZNAME:CDT
DTSTART:20260308T080000
END:DAYLIGHT
BEGIN:STANDARD
TZOFFSETFROM:-0500
TZOFFSETTO:-0600
TZNAME:CST
DTSTART:20261101T070000
END:STANDARD
BEGIN:DAYLIGHT
TZOFFSETFROM:-0600
TZOFFSETTO:-0500
TZNAME:CDT
DTSTART:20270314T080000
END:DAYLIGHT
BEGIN:STANDARD
TZOFFSETFROM:-0500
TZOFFSETTO:-0600
TZNAME:CST
DTSTART:20271107T070000
END:STANDARD
END:VTIMEZONE
BEGIN:VEVENT
DTSTART;TZID=America/Chicago:20260207T120000
DTEND;TZID=America/Chicago:20260207T150000
DTSTAMP:20260420T201607
CREATED:20260107T002625Z
LAST-MODIFIED:20260107T002625Z
UID:1378-1770465600-1770476400@19thholemokena.com
SUMMARY:Kozy Knits Blanket Workshop
DESCRIPTION:
URL:https://19thholemokena.com/event/kozy-knits-blanket-workshop-2/
CATEGORIES:Special Events
END:VEVENT
BEGIN:VEVENT
DTSTART;TZID=America/Chicago:20260118T120000
DTEND;TZID=America/Chicago:20260118T150000
DTSTAMP:20260420T201607
CREATED:20260107T002340Z
LAST-MODIFIED:20260107T002340Z
UID:1374-1768737600-1768748400@19thholemokena.com
SUMMARY:Kozy Knits Blanket Workshop
DESCRIPTION:
URL:https://19thholemokena.com/event/kozy-knits-blanket-workshop/
CATEGORIES:Special Events
END:VEVENT
BEGIN:VEVENT
DTSTART;TZID=America/Chicago:20231026T183000
DTEND;TZID=America/Chicago:20231026T213000
DTSTAMP:20260420T201607
CREATED:20230926T011735Z
LAST-MODIFIED:20231002T144717Z
UID:1089-1698345000-1698355800@19thholemokena.com
SUMMARY:Bourbon Fall Opening Scramble
DESCRIPTION:  \nCheck in at 6:30pm\n9 Hole Scramble starts at 7pm\n2 person teams\nEntry fee is $100 per team ($50 per person)\n\nIncludes:\n1 bourbon sample\nSimulator time\nCash pool prize\nContests for prizes!
URL:https://19thholemokena.com/event/bourbon-fall-opening-scramble/
LOCATION:19th Hole\, 9418 W 191st St\, Mokena\, IL\, 60448\, United States
CATEGORIES:Special Events
END:VEVENT
BEGIN:VEVENT
DTSTART;TZID=America/Chicago:20221116T173000
DTEND;TZID=America/Chicago:20221116T213000
DTSTAMP:20260420T201607
CREATED:20221028T170734Z
LAST-MODIFIED:20221028T170734Z
UID:931-1668619800-1668634200@19thholemokena.com
SUMMARY:Couples 9 & Dine- Studio 54 Theme
DESCRIPTION:Details:\n5:30pm-6:00pm- Check in & appetizer\n6:00pm-7:30pm- Golf\n7:30pm-9:30pm- Dinner\, games\, awards & prizes\n\n\nCost: \n$120 per couple if paired with another couple. $160 for a private bay \n\nCost Includes: \n1 glass of Champagne & Chambord per person\n1 Charcuterie appetizer per couple\n9 holes of golf\n1 Dinner per person\nGames & prizes\n\nRegister here\n 
URL:https://19thholemokena.com/event/couples-9-dine-studio-54-theme/
CATEGORIES:Special Events
END:VEVENT
END:VCALENDAR